BEGIN:VCALENDAR
VERSION:2.0
PRODID:-//Inland Coalition for Immigrant Justice - ECPv6.9.1//NONSGML v1.0//EN
CALSCALE:GREGORIAN
METHOD:PUBLISH
X-ORIGINAL-URL:https://ic4ij.org/es
X-WR-CALDESC:Eventos para Inland Coalition for Immigrant Justice
REFRESH-INTERVAL;VALUE=DURATION:PT1H
X-Robots-Tag:noindex
X-PUBLISHED-TTL:PT1H
BEGIN:VTIMEZONE
TZID:America/Los_Angeles
BEGIN:DAYLIGHT
TZOFFSETFROM:-0800
TZOFFSETTO:-0700
TZNAME:PDT
DTSTART:20230312T100000
END:DAYLIGHT
BEGIN:STANDARD
TZOFFSETFROM:-0700
TZOFFSETTO:-0800
TZNAME:PST
DTSTART:20231105T090000
END:STANDARD
END:VTIMEZONE
BEGIN:VEVENT
DTSTART;TZID=America/Los_Angeles:20230914T170000
DTEND;TZID=America/Los_Angeles:20230914T190000
DTSTAMP:20260423T065945
CREATED:20230831T205333Z
LAST-MODIFIED:20230831T205952Z
UID:6066-1694710800-1694718000@ic4ij.org
SUMMARY:Resource Hotline Volunteer Training
DESCRIPTION:Volunteer with us! We will be hosting a training on September 14th from 5-7pm to teach you how all about Know Your Rights information and resources available in our network so you can help support our community through our Resource Hotline.
URL:https://ic4ij.org/es/event/resource-hotline-volunteer-training
LOCATION:ICIJ Office\, 2441 N. Sierra Way\, San Bernardino\, CA\, 92405\, United States
ATTACH;FMTTYPE=image/png:https://ic4ij.org/app/uploads/2023/08/Hotline-Logo.png
ORGANIZER;CN="Esmeralda Santos":MAILTO:esmeralda@ic4ij.org
END:VEVENT
END:VCALENDAR