BEGIN:VCALENDAR
VERSION:2.0
PRODID:-//Inland Coalition for Immigrant Justice - ECPv6.9.1//NONSGML v1.0//EN
CALSCALE:GREGORIAN
METHOD:PUBLISH
X-WR-CALNAME:Inland Coalition for Immigrant Justice
X-ORIGINAL-URL:https://ic4ij.org/es
X-WR-CALDESC:Eventos para Inland Coalition for Immigrant Justice
REFRESH-INTERVAL;VALUE=DURATION:PT1H
X-Robots-Tag:noindex
X-PUBLISHED-TTL:PT1H
BEGIN:VTIMEZONE
TZID:America/Los_Angeles
BEGIN:DAYLIGHT
TZOFFSETFROM:-0800
TZOFFSETTO:-0700
TZNAME:PDT
DTSTART:20230312T100000
END:DAYLIGHT
BEGIN:STANDARD
TZOFFSETFROM:-0700
TZOFFSETTO:-0800
TZNAME:PST
DTSTART:20231105T090000
END:STANDARD
END:VTIMEZONE
BEGIN:VEVENT
DTSTART;TZID=America/Los_Angeles:20230810T100000
DTEND;TZID=America/Los_Angeles:20230810T110000
DTSTAMP:20260425T153206
CREATED:20230802T233334Z
LAST-MODIFIED:20230802T233334Z
UID:5921-1691661600-1691665200@ic4ij.org
SUMMARY:Jackie & Ligaya Birthday Action!
DESCRIPTION:Join us on August 10th outside the ICE office in San Bernardino to uplift the voices of Jackie and Ligaya\, the last two women in the Adelanto Detention Facility. We will also be wishing them a happy birthday and celebrating them with music and cake.
URL:https://ic4ij.org/es/event/jackie-ligaya-birthday-action
LOCATION:655 West Rialto Ave\, San Bernardino\, CA\, 655 West Rialto Ave\, San Bernardino\,\, CA\, United States
ATTACH;FMTTYPE=image/png:https://ic4ij.org/app/uploads/2023/08/Jackie-Ligaya.png
ORGANIZER;CN="Esmeralda Santos":MAILTO:esmeralda@ic4ij.org
END:VEVENT
END:VCALENDAR